BEGIN:VCALENDAR
VERSION:2.0
PRODID:icalendar-ruby
CALSCALE:GREGORIAN
BEGIN:VEVENT
DTSTAMP:20260419T175011Z
UID:19e6dd6c-c66c-4e33-b581-7e1c027b8c73
DTSTART;TZID=Pacific/Auckland:20260418T120000
DTEND;TZID=Pacific/Auckland:20260418T123000
DESCRIPTION:Property ID# 1007681
SUMMARY:Openhome for 8 Prospectors Way
END:VEVENT
END:VCALENDAR
